BEGIN:VCALENDAR
VERSION:2.0
PRODID:-//GOGOLLAGE - ECPv5.14.2.1//NONSGML v1.0//EN
CALSCALE:GREGORIAN
METHOD:PUBLISH
X-WR-CALNAME:GOGOLLAGE
X-ORIGINAL-URL:https://www.gogollage.com
X-WR-CALDESC:Events for GOGOLLAGE
REFRESH-INTERVAL;VALUE=DURATION:PT1H
X-Robots-Tag:noindex
X-PUBLISHED-TTL:PT1H
BEGIN:VTIMEZONE
TZID:UTC
BEGIN:STANDARD
TZOFFSETFROM:+0000
TZOFFSETTO:+0000
TZNAME:UTC
DTSTART:20210101T000000
END:STANDARD
END:VTIMEZONE
BEGIN:VEVENT
DTSTART;VALUE=DATE:20221110
DTEND;VALUE=DATE:20221207
DTSTAMP:20260422T004144
CREATED:20190604T085223Z
LAST-MODIFIED:20191207T155408Z
UID:480-1668038400-1670371199@www.gogollage.com
SUMMARY:Records & Rebels 1966-1970
DESCRIPTION:Etiam semper\, nunc vitae volutpat efficitur\, elit nibh egestas velit\, amet euismod justo justo pharetra ipsum. Mauris tincidunt magna\, ut fringilla erat ultrices et. Class aptent taciti sociosqu ad litora torquent per conubia nostra\, per inceptos himenaeos. Donec a metus eget libero efficitur tempor. Mauris bibendum mi leo\, at pulvinar leo cursus congue. Aenean tristique metus diam\, id mollis magna efficitur nec. Sed enenatis arcu nisl\, ac pharetra felis vestibulum vitae. Aenean sit amet pharetra eros\, et condimentum tortor. Class aptent taciti sociosqu ad litora torquent per conubia nostra\, per inceptos himenaeos. Aenean a dolor turpis. 					\n						\n				\n				\n				\n					\n			\n		\n				\n				\n				\n				\n			Buy Ticket
URL:https://www.gogollage.com/event/records-rebels-1966-1970/
LOCATION:Queens\, New York\, 34th Ave\, NY\, 11106\, United States
CATEGORIES:Invitation
ATTACH;FMTTYPE=image/jpeg:https://www.gogollage.com/wp-content/uploads/2019/06/image-45-copyright.jpg
ORGANIZER;CN="Ozeum%20Art%20%26%20History%20Museum":MAILTO:yoursite@example.com
END:VEVENT
BEGIN:VEVENT
DTSTART;TZID=UTC:20221020T080000
DTEND;TZID=UTC:20221116T170000
DTSTAMP:20260422T004144
CREATED:20190531T081521Z
LAST-MODIFIED:20191207T104953Z
UID:283-1666252800-1668618000@www.gogollage.com
SUMMARY:Jean Francois De Troy "Bathsheba At Her Toilet"
DESCRIPTION:Etiam semper\, nunc vitae volutpat efficitur\, elit nibh egestas velit\, amet euismod justo justo pharetra ipsum. Mauris tincidunt magna\, ut fringilla erat ultrices et. Class aptent taciti sociosqu ad litora torquent per conubia nostra\, per inceptos himenaeos. Donec a metus eget libero efficitur tempor. Mauris bibendum mi leo\, at pulvinar leo cursus congue. Aenean tristique metus diam\, id mollis magna efficitur nec. Sed enenatis arcu nisl\, ac pharetra felis vestibulum vitae. Aenean sit amet pharetra eros\, et condimentum tortor. Class aptent taciti sociosqu ad litora torquent per conubia nostra\, per inceptos himenaeos. Aenean a dolor turpis. 					\n						\n				\n				\n				\n					\n			\n		\n				\n				\n				\n				\n			Buy Ticket
URL:https://www.gogollage.com/event/jean-francois-de-troy-bathsheba-at-her-toilet/
LOCATION:Queens\, New York\, 34th Ave\, NY\, 11106\, United States
CATEGORIES:Exhibitions
ATTACH;FMTTYPE=image/jpeg:https://www.gogollage.com/wp-content/uploads/2019/06/image-42-copyright.jpg
ORGANIZER;CN="Ozeum%20Art%20%26%20History%20Museum":MAILTO:yoursite@example.com
END:VEVENT
BEGIN:VEVENT
DTSTART;VALUE=DATE:20221001
DTEND;VALUE=DATE:20221020
DTSTAMP:20260422T004144
CREATED:20190604T085111Z
LAST-MODIFIED:20191207T155523Z
UID:478-1664582400-1666223999@www.gogollage.com
SUMMARY:Golden Age of Renaissance Exhibition
DESCRIPTION:Etiam semper\, nunc vitae volutpat efficitur\, elit nibh egestas velit\, amet euismod justo justo pharetra ipsum. Mauris tincidunt magna\, ut fringilla erat ultrices et. Class aptent taciti sociosqu ad litora torquent per conubia nostra\, per inceptos himenaeos. Donec a metus eget libero efficitur tempor. Mauris bibendum mi leo\, at pulvinar leo cursus congue. Aenean tristique metus diam\, id mollis magna efficitur nec. Sed enenatis arcu nisl\, ac pharetra felis vestibulum vitae. Aenean sit amet pharetra eros\, et condimentum tortor. Class aptent taciti sociosqu ad litora torquent per conubia nostra\, per inceptos himenaeos. Aenean a dolor turpis. 					\n						\n				\n				\n				\n					\n			\n		\n				\n				\n				\n				\n			Buy Ticket
URL:https://www.gogollage.com/event/golden-age-of-renaissance-exhibition/
LOCATION:Queens\, New York\, 34th Ave\, NY\, 11106\, United States
CATEGORIES:Invitation
ATTACH;FMTTYPE=image/jpeg:https://www.gogollage.com/wp-content/uploads/2019/05/image-40-copyright.jpg
ORGANIZER;CN="Ozeum%20Art%20%26%20History%20Museum":MAILTO:yoursite@example.com
END:VEVENT
BEGIN:VEVENT
DTSTART;VALUE=DATE:20220901
DTEND;VALUE=DATE:20220929
DTSTAMP:20260422T004144
CREATED:20190531T081026Z
LAST-MODIFIED:20191207T105057Z
UID:280-1661990400-1664409599@www.gogollage.com
SUMMARY:Unique Exhibition Johan Zoffany
DESCRIPTION:Etiam semper\, nunc vitae volutpat efficitur\, elit nibh egestas velit\, amet euismod justo justo pharetra ipsum. Mauris tincidunt magna\, ut fringilla erat ultrices et. Class aptent taciti sociosqu ad litora torquent per conubia nostra\, per inceptos himenaeos. Donec a metus eget libero efficitur tempor. Mauris bibendum mi leo\, at pulvinar leo cursus congue. Aenean tristique metus diam\, id mollis magna efficitur nec. Sed enenatis arcu nisl\, ac pharetra felis vestibulum vitae. Aenean sit amet pharetra eros\, et condimentum tortor. Class aptent taciti sociosqu ad litora torquent per conubia nostra\, per inceptos himenaeos. Aenean a dolor turpis. 					\n						\n				\n				\n				\n					\n			\n		\n				\n				\n				\n				\n			Buy Ticket
URL:https://www.gogollage.com/event/unique-exhibition-johan-zoffany/
LOCATION:Queens\, New York\, 34th Ave\, NY\, 11106\, United States
CATEGORIES:Exhibitions
ATTACH;FMTTYPE=image/jpeg:https://www.gogollage.com/wp-content/uploads/2019/05/image-32-copyright.jpg
ORGANIZER;CN="Ozeum%20Art%20%26%20History%20Museum":MAILTO:yoursite@example.com
END:VEVENT
BEGIN:VEVENT
DTSTART;TZID=UTC:20220817T080000
DTEND;TZID=UTC:20220908T170000
DTSTAMP:20260422T004144
CREATED:20190531T080808Z
LAST-MODIFIED:20191207T105134Z
UID:277-1660723200-1662656400@www.gogollage.com
SUMMARY:Franklin Carmichael - "Autumn Hillside"
DESCRIPTION:Etiam semper\, nunc vitae volutpat efficitur\, elit nibh egestas velit\, amet euismod justo justo pharetra ipsum. Mauris tincidunt magna\, ut fringilla erat ultrices et. Class aptent taciti sociosqu ad litora torquent per conubia nostra\, per inceptos himenaeos. Donec a metus eget libero efficitur tempor. Mauris bibendum mi leo\, at pulvinar leo cursus congue. Aenean tristique metus diam\, id mollis magna efficitur nec. Sed enenatis arcu nisl\, ac pharetra felis vestibulum vitae. Aenean sit amet pharetra eros\, et condimentum tortor. Class aptent taciti sociosqu ad litora torquent per conubia nostra\, per inceptos himenaeos. Aenean a dolor turpis. 					\n						\n				\n				\n				\n					\n			\n		\n				\n				\n				\n				\n			Buy Ticket
URL:https://www.gogollage.com/event/franklin-carmichael-autumn-hillside/
LOCATION:Queens\, New York\, 34th Ave\, NY\, 11106\, United States
CATEGORIES:Exhibitions
ATTACH;FMTTYPE=image/jpeg:https://www.gogollage.com/wp-content/uploads/2019/05/image-18-copyright.jpg
ORGANIZER;CN="Ozeum%20Art%20%26%20History%20Museum":MAILTO:yoursite@example.com
END:VEVENT
BEGIN:VEVENT
DTSTART;TZID=UTC:20220718T080000
DTEND;TZID=UTC:20220816T170000
DTSTAMP:20260422T004144
CREATED:20190531T075858Z
LAST-MODIFIED:20191207T105157Z
UID:274-1658131200-1660669200@www.gogollage.com
SUMMARY:"The Pilgrim Mourning His Dead Ass"
DESCRIPTION:Etiam semper\, nunc vitae volutpat efficitur\, elit nibh egestas velit\, amet euismod justo justo pharetra ipsum. Mauris tincidunt magna\, ut fringilla erat ultrices et. Class aptent taciti sociosqu ad litora torquent per conubia nostra\, per inceptos himenaeos. Donec a metus eget libero efficitur tempor. Mauris bibendum mi leo\, at pulvinar leo cursus congue. Aenean tristique metus diam\, id mollis magna efficitur nec. Sed enenatis arcu nisl\, ac pharetra felis vestibulum vitae. Aenean sit amet pharetra eros\, et condimentum tortor. Class aptent taciti sociosqu ad litora torquent per conubia nostra\, per inceptos himenaeos. Aenean a dolor turpis. 					\n						\n				\n				\n				\n					\n			\n		\n				\n				\n				\n				\n			Buy Ticket
URL:https://www.gogollage.com/event/the-pilgrim-mourning-his-dead-ass/
LOCATION:Queens\, New York\, 34th Ave\, NY\, 11106\, United States
CATEGORIES:Exhibitions
ATTACH;FMTTYPE=image/jpeg:https://www.gogollage.com/wp-content/uploads/2019/05/image-72-copyright.jpg
ORGANIZER;CN="Ozeum%20Art%20%26%20History%20Museum":MAILTO:yoursite@example.com
END:VEVENT
BEGIN:VEVENT
DTSTART;TZID=UTC:20220620T080000
DTEND;TZID=UTC:20220723T170000
DTSTAMP:20260422T004144
CREATED:20190531T073941Z
LAST-MODIFIED:20191207T105209Z
UID:271-1655712000-1658595600@www.gogollage.com
SUMMARY:Damaskenos Michael - "Four military saints"
DESCRIPTION:Etiam semper\, nunc vitae volutpat efficitur\, elit nibh egestas velit\, amet euismod justo justo pharetra ipsum. Mauris tincidunt magna\, ut fringilla erat ultrices et. Class aptent taciti sociosqu ad litora torquent per conubia nostra\, per inceptos himenaeos. Donec a metus eget libero efficitur tempor. Mauris bibendum mi leo\, at pulvinar leo cursus congue. Aenean tristique metus diam\, id mollis magna efficitur nec. Sed enenatis arcu nisl\, ac pharetra felis vestibulum vitae. Aenean sit amet pharetra eros\, et condimentum tortor. Class aptent taciti sociosqu ad litora torquent per conubia nostra\, per inceptos himenaeos. Aenean a dolor turpis. 					\n						\n				\n				\n				\n					\n			\n		\n				\n				\n				\n				\n			Buy Ticket
URL:https://www.gogollage.com/event/damaskenos-michael-four-military-saints/
LOCATION:Queens\, New York\, 34th Ave\, NY\, 11106\, United States
CATEGORIES:Exhibitions
ATTACH;FMTTYPE=image/jpeg:https://www.gogollage.com/wp-content/uploads/2019/05/image-71-copyright.jpg
ORGANIZER;CN="Ozeum%20Art%20%26%20History%20Museum":MAILTO:yoursite@example.com
END:VEVENT
BEGIN:VEVENT
DTSTART;VALUE=DATE:20220615
DTEND;VALUE=DATE:20220724
DTSTAMP:20260422T004144
CREATED:20190530T143145Z
LAST-MODIFIED:20191207T105220Z
UID:263-1655251200-1658620799@www.gogollage.com
SUMMARY:William Turner and the Modern World
DESCRIPTION:Etiam semper\, nunc vitae volutpat efficitur\, elit nibh egestas velit\, amet euismod justo justo pharetra ipsum. Mauris tincidunt magna\, ut fringilla erat ultrices et. Class aptent taciti sociosqu ad litora torquent per conubia nostra\, per inceptos himenaeos. Donec a metus eget libero efficitur tempor. Mauris bibendum mi leo\, at pulvinar leo cursus congue. Aenean tristique metus diam\, id mollis magna efficitur nec. Sed enenatis arcu nisl\, ac pharetra felis vestibulum vitae. Aenean sit amet pharetra eros\, et condimentum tortor. Class aptent taciti sociosqu ad litora torquent per conubia nostra\, per inceptos himenaeos. Aenean a dolor turpis. 					\n						\n				\n				\n				\n					\n			\n		\n				\n				\n				\n				\n			Buy Ticket
URL:https://www.gogollage.com/event/william-turner-and-the-modern-world/
LOCATION:Queens\, New York\, 34th Ave\, NY\, 11106\, United States
CATEGORIES:Exhibitions
ATTACH;FMTTYPE=image/jpeg:https://www.gogollage.com/wp-content/uploads/2019/05/image-2-copyright.jpg
ORGANIZER;CN="Ozeum%20Art%20%26%20History%20Museum":MAILTO:yoursite@example.com
END:VEVENT
BEGIN:VEVENT
DTSTART;TZID=UTC:20211215T080000
DTEND;TZID=UTC:20220121T170000
DTSTAMP:20260422T004144
CREATED:20190530T145124Z
LAST-MODIFIED:20191207T145059Z
UID:267-1639555200-1642784400@www.gogollage.com
SUMMARY:"Country Road in Provence by Night"
DESCRIPTION:Etiam semper\, nunc vitae volutpat efficitur\, elit nibh egestas velit\, amet euismod justo justo pharetra ipsum. Mauris tincidunt magna\, ut fringilla erat ultrices et. Class aptent taciti sociosqu ad litora torquent per conubia nostra\, per inceptos himenaeos. Donec a metus eget libero efficitur tempor. Mauris bibendum mi leo\, at pulvinar leo cursus congue. Aenean tristique metus diam\, id mollis magna efficitur nec. Sed enenatis arcu nisl\, ac pharetra felis vestibulum vitae. Aenean sit amet pharetra eros\, et condimentum tortor. Class aptent taciti sociosqu ad litora torquent per conubia nostra\, per inceptos himenaeos. Aenean a dolor turpis. 					\n						\n				\n				\n				\n					\n			\n		\n				\n				\n				\n				\n			Buy Ticket
URL:https://www.gogollage.com/event/country-road-in-provence-by-night/
LOCATION:Queens\, New York\, 34th Ave\, NY\, 11106\, United States
CATEGORIES:Exhibitions
ATTACH;FMTTYPE=image/jpeg:https://www.gogollage.com/wp-content/uploads/2019/05/image-70-copyright.jpg
ORGANIZER;CN="Ozeum%20Art%20%26%20History%20Museum":MAILTO:yoursite@example.com
END:VEVENT
END:VCALENDAR