BEGIN:VCALENDAR
VERSION:2.0
PRODID:-//GOGOLLAGE - ECPv5.14.2.1//NONSGML v1.0//EN
CALSCALE:GREGORIAN
METHOD:PUBLISH
X-WR-CALNAME:GOGOLLAGE
X-ORIGINAL-URL:https://www.gogollage.com
X-WR-CALDESC:Events for GOGOLLAGE
REFRESH-INTERVAL;VALUE=DURATION:PT1H
X-Robots-Tag:noindex
X-PUBLISHED-TTL:PT1H
BEGIN:VTIMEZONE
TZID:UTC
BEGIN:STANDARD
TZOFFSETFROM:+0000
TZOFFSETTO:+0000
TZNAME:UTC
DTSTART:20210101T000000
END:STANDARD
END:VTIMEZONE
BEGIN:VEVENT
DTSTART;VALUE=DATE:20211216
DTEND;VALUE=DATE:20230115
DTSTAMP:20260421T225603
CREATED:20190604T085349Z
LAST-MODIFIED:20210904T135815Z
UID:483-1639612800-1673740799@www.gogollage.com
SUMMARY:Bernard van Orley At Saint-Géry
DESCRIPTION:Etiam semper\, nunc vitae volutpat efficitur\, elit nibh egestas velit\, amet euismod justo justo pharetra ipsum. Mauris tincidunt magna\, ut fringilla erat ultrices et. Class aptent taciti sociosqu ad litora torquent per conubia nostra\, per inceptos himenaeos. Donec a metus eget libero efficitur tempor. Mauris bibendum mi leo\, at pulvinar leo cursus congue. Aenean tristique metus diam\, id mollis magna efficitur nec. Sed enenatis arcu nisl\, ac pharetra felis vestibulum vitae. Aenean sit amet pharetra eros\, et condimentum tortor. Class aptent taciti sociosqu ad litora torquent per conubia nostra\, per inceptos himenaeos. Aenean a dolor turpis. 					\n						\n				\n				\n				\n					\n			\n		\n				\n				\n				\n				\n			Buy Ticket
URL:https://www.gogollage.com/event/bernard-van-orley-at-saint-gery/
LOCATION:Queens\, New York\, 34th Ave\, NY\, 11106\, United States
CATEGORIES:Invitation
ATTACH;FMTTYPE=image/jpeg:https://www.gogollage.com/wp-content/uploads/2019/05/image-36-copyright.jpg
ORGANIZER;CN="Ozeum%20Art%20%26%20History%20Museum":MAILTO:yoursite@example.com
END:VEVENT
BEGIN:VEVENT
DTSTART;VALUE=DATE:20220122
DTEND;VALUE=DATE:20230221
DTSTAMP:20260421T225603
CREATED:20190606T084449Z
LAST-MODIFIED:20210904T135803Z
UID:692-1642809600-1676937599@www.gogollage.com
SUMMARY:Caravaggio Michelangelo Merisi
DESCRIPTION:Etiam semper\, nunc vitae volutpat efficitur\, elit nibh egestas velit\, amet euismod justo justo pharetra ipsum. Mauris tincidunt magna\, ut fringilla erat ultrices et. Class aptent taciti sociosqu ad litora torquent per conubia nostra\, per inceptos himenaeos. Donec a metus eget libero efficitur tempor. Mauris bibendum mi leo\, at pulvinar leo cursus congue. Aenean tristique metus diam\, id mollis magna efficitur nec. Sed enenatis arcu nisl\, ac pharetra felis vestibulum vitae. Aenean sit amet pharetra eros\, et condimentum tortor. Class aptent taciti sociosqu ad litora torquent per conubia nostra\, per inceptos himenaeos. Aenean a dolor turpis. 					\n						\n				\n				\n				\n					\n			\n		\n				\n				\n				\n				\n			Buy Ticket
URL:https://www.gogollage.com/event/caravaggio-michelangelo-merisi/
LOCATION:Queens\, New York\, 34th Ave\, NY\, 11106\, United States
CATEGORIES:Galleries
ATTACH;FMTTYPE=image/jpeg:https://www.gogollage.com/wp-content/uploads/2019/05/image-13-copyright.jpg
ORGANIZER;CN="Ozeum%20Art%20%26%20History%20Museum":MAILTO:yoursite@example.com
END:VEVENT
BEGIN:VEVENT
DTSTART;VALUE=DATE:20220208
DTEND;VALUE=DATE:20230312
DTSTAMP:20260421T225603
CREATED:20190606T084720Z
LAST-MODIFIED:20210904T135748Z
UID:694-1644278400-1678579199@www.gogollage.com
SUMMARY:Jean-Francois De Troy
DESCRIPTION:Etiam semper\, nunc vitae volutpat efficitur\, elit nibh egestas velit\, amet euismod justo justo pharetra ipsum. Mauris tincidunt magna\, ut fringilla erat ultrices et. Class aptent taciti sociosqu ad litora torquent per conubia nostra\, per inceptos himenaeos. Donec a metus eget libero efficitur tempor. Mauris bibendum mi leo\, at pulvinar leo cursus congue. Aenean tristique metus diam\, id mollis magna efficitur nec. Sed enenatis arcu nisl\, ac pharetra felis vestibulum vitae. Aenean sit amet pharetra eros\, et condimentum tortor. Class aptent taciti sociosqu ad litora torquent per conubia nostra\, per inceptos himenaeos. Aenean a dolor turpis. 					\n						\n				\n				\n				\n					\n			\n		\n				\n				\n				\n				\n			Buy Ticket
URL:https://www.gogollage.com/event/jean-francois-de-troy/
LOCATION:Queens\, New York\, 34th Ave\, NY\, 11106\, United States
CATEGORIES:Galleries
ATTACH;FMTTYPE=image/jpeg:https://www.gogollage.com/wp-content/uploads/2019/05/image-4-copyright.jpg
ORGANIZER;CN="Ozeum%20Art%20%26%20History%20Museum":MAILTO:yoursite@example.com
END:VEVENT
BEGIN:VEVENT
DTSTART;VALUE=DATE:20220316
DTEND;VALUE=DATE:20230417
DTSTAMP:20260421T225603
CREATED:20190610T112848Z
LAST-MODIFIED:20210904T135727Z
UID:860-1647388800-1681689599@www.gogollage.com
SUMMARY:Ilya Repin
DESCRIPTION:Etiam semper\, nunc vitae volutpat efficitur\, elit nibh egestas velit\, amet euismod justo justo pharetra ipsum. Mauris tincidunt magna\, ut fringilla erat ultrices et. Class aptent taciti sociosqu ad litora torquent per conubia nostra\, per inceptos himenaeos. Donec a metus eget libero efficitur tempor. Mauris bibendum mi leo\, at pulvinar leo cursus congue. Aenean tristique metus diam\, id mollis magna efficitur nec. Sed enenatis arcu nisl\, ac pharetra felis vestibulum vitae. Aenean sit amet pharetra eros\, et condimentum tortor. Class aptent taciti sociosqu ad litora torquent per conubia nostra\, per inceptos himenaeos. Aenean a dolor turpis. 					\n						\n				\n				\n				\n					\n			\n		\n				\n				\n				\n				\n			Buy Ticket
URL:https://www.gogollage.com/event/ilya-repin/
LOCATION:Queens\, New York\, 34th Ave\, NY\, 11106\, United States
CATEGORIES:Classics
ATTACH;FMTTYPE=image/jpeg:https://www.gogollage.com/wp-content/uploads/2019/06/image-82-copyright.jpg
ORGANIZER;CN="Ozeum%20Art%20%26%20History%20Museum":MAILTO:yoursite@example.com
END:VEVENT
BEGIN:VEVENT
DTSTART;TZID=UTC:20221020T080000
DTEND;TZID=UTC:20221116T170000
DTSTAMP:20260421T225603
CREATED:20190531T081521Z
LAST-MODIFIED:20191207T104953Z
UID:283-1666252800-1668618000@www.gogollage.com
SUMMARY:Jean Francois De Troy "Bathsheba At Her Toilet"
DESCRIPTION:Etiam semper\, nunc vitae volutpat efficitur\, elit nibh egestas velit\, amet euismod justo justo pharetra ipsum. Mauris tincidunt magna\, ut fringilla erat ultrices et. Class aptent taciti sociosqu ad litora torquent per conubia nostra\, per inceptos himenaeos. Donec a metus eget libero efficitur tempor. Mauris bibendum mi leo\, at pulvinar leo cursus congue. Aenean tristique metus diam\, id mollis magna efficitur nec. Sed enenatis arcu nisl\, ac pharetra felis vestibulum vitae. Aenean sit amet pharetra eros\, et condimentum tortor. Class aptent taciti sociosqu ad litora torquent per conubia nostra\, per inceptos himenaeos. Aenean a dolor turpis. 					\n						\n				\n				\n				\n					\n			\n		\n				\n				\n				\n				\n			Buy Ticket
URL:https://www.gogollage.com/event/jean-francois-de-troy-bathsheba-at-her-toilet/
LOCATION:Queens\, New York\, 34th Ave\, NY\, 11106\, United States
CATEGORIES:Exhibitions
ATTACH;FMTTYPE=image/jpeg:https://www.gogollage.com/wp-content/uploads/2019/06/image-42-copyright.jpg
ORGANIZER;CN="Ozeum%20Art%20%26%20History%20Museum":MAILTO:yoursite@example.com
END:VEVENT
BEGIN:VEVENT
DTSTART;VALUE=DATE:20221110
DTEND;VALUE=DATE:20221207
DTSTAMP:20260421T225603
CREATED:20190604T085223Z
LAST-MODIFIED:20191207T155408Z
UID:480-1668038400-1670371199@www.gogollage.com
SUMMARY:Records & Rebels 1966-1970
DESCRIPTION:Etiam semper\, nunc vitae volutpat efficitur\, elit nibh egestas velit\, amet euismod justo justo pharetra ipsum. Mauris tincidunt magna\, ut fringilla erat ultrices et. Class aptent taciti sociosqu ad litora torquent per conubia nostra\, per inceptos himenaeos. Donec a metus eget libero efficitur tempor. Mauris bibendum mi leo\, at pulvinar leo cursus congue. Aenean tristique metus diam\, id mollis magna efficitur nec. Sed enenatis arcu nisl\, ac pharetra felis vestibulum vitae. Aenean sit amet pharetra eros\, et condimentum tortor. Class aptent taciti sociosqu ad litora torquent per conubia nostra\, per inceptos himenaeos. Aenean a dolor turpis. 					\n						\n				\n				\n				\n					\n			\n		\n				\n				\n				\n				\n			Buy Ticket
URL:https://www.gogollage.com/event/records-rebels-1966-1970/
LOCATION:Queens\, New York\, 34th Ave\, NY\, 11106\, United States
CATEGORIES:Invitation
ATTACH;FMTTYPE=image/jpeg:https://www.gogollage.com/wp-content/uploads/2019/06/image-45-copyright.jpg
ORGANIZER;CN="Ozeum%20Art%20%26%20History%20Museum":MAILTO:yoursite@example.com
END:VEVENT
END:VCALENDAR